BEGIN:VCALENDAR
VERSION:2.0
PRODID:-//Autism Society - ECPv6.15.20//NONSGML v1.0//EN
CALSCALE:GREGORIAN
METHOD:PUBLISH
X-WR-CALNAME:Autism Society
X-ORIGINAL-URL:https://autismsd.org
X-WR-CALDESC:Events for Autism Society
REFRESH-INTERVAL;VALUE=DURATION:PT1H
X-Robots-Tag:noindex
X-PUBLISHED-TTL:PT1H
BEGIN:VTIMEZONE
TZID:UTC
BEGIN:STANDARD
TZOFFSETFROM:+0000
TZOFFSETTO:+0000
TZNAME:UTC
DTSTART:20250101T000000
END:STANDARD
END:VTIMEZONE
BEGIN:VEVENT
DTSTART;TZID=UTC:20260420T180000
DTEND;TZID=UTC:20260420T200000
DTSTAMP:20260420T014525
CREATED:20260216T201555Z
LAST-MODIFIED:20260216T201555Z
UID:1213-1776708000-1776715200@autismsd.org
SUMMARY:Press Start Sensory Night
DESCRIPTION:Come join us for a night of sensory friendly fun at Press Start!\nPizza and drinks are provided!  Please RSVP with the form below to let us know how many are in your party so we have enough pizza for everyone!\n\nhttps://forms.gle/hQZGndpKFvnjzStf7\n\n**This is a private event for people of ALL ages on the spectrum and their families or support staff.
URL:https://autismsd.org/event/press-start-sensory-night/
LOCATION:Press Start\, 504 Mt Rushmore Rd\, Rapid City\, South Dakota\, 57701
ATTACH;FMTTYPE=image/jpeg:https://autismsd.org/wp-content/uploads/2026/02/PressStart04-20-2026.jpg
ORGANIZER;CN="Secretary":MAILTO:info@autismsd.org
END:VEVENT
END:VCALENDAR